BEGIN:VCALENDAR
VERSION:2.0
PRODID:-//Gesamtschule Emschertal - ECPv6.15.20//NONSGML v1.0//EN
CALSCALE:GREGORIAN
METHOD:PUBLISH
X-ORIGINAL-URL:https://gesamtschule-emschertal.de
X-WR-CALDESC:Veranstaltungen für Gesamtschule Emschertal
REFRESH-INTERVAL;VALUE=DURATION:PT1H
X-Robots-Tag:noindex
X-PUBLISHED-TTL:PT1H
BEGIN:VTIMEZONE
TZID:Europe/Berlin
BEGIN:DAYLIGHT
TZOFFSETFROM:+0100
TZOFFSETTO:+0200
TZNAME:CEST
DTSTART:20230326T010000
END:DAYLIGHT
BEGIN:STANDARD
TZOFFSETFROM:+0200
TZOFFSETTO:+0100
TZNAME:CET
DTSTART:20231029T010000
END:STANDARD
BEGIN:DAYLIGHT
TZOFFSETFROM:+0100
TZOFFSETTO:+0200
TZNAME:CEST
DTSTART:20240331T010000
END:DAYLIGHT
BEGIN:STANDARD
TZOFFSETFROM:+0200
TZOFFSETTO:+0100
TZNAME:CET
DTSTART:20241027T010000
END:STANDARD
BEGIN:DAYLIGHT
TZOFFSETFROM:+0100
TZOFFSETTO:+0200
TZNAME:CEST
DTSTART:20250330T010000
END:DAYLIGHT
BEGIN:STANDARD
TZOFFSETFROM:+0200
TZOFFSETTO:+0100
TZNAME:CET
DTSTART:20251026T010000
END:STANDARD
END:VTIMEZONE
BEGIN:VEVENT
DTSTART;TZID=Europe/Berlin:20241119T080000
DTEND;TZID=Europe/Berlin:20241119T170000
DTSTAMP:20260425T213443
CREATED:20240918T135035Z
LAST-MODIFIED:20241024T083935Z
UID:2394-1732003200-1732035600@gesamtschule-emschertal.de
SUMMARY:Beratungstag (Elternsprechtag)
DESCRIPTION:An diesem Tag findet kein Unterricht statt.\nEltern und Kinder haben im Vorfeld die Möglichkeit Termine mit Lehrkräften zu vereinbaren.
URL:https://gesamtschule-emschertal.de/event/beratungstag-elternsprechtag/
END:VEVENT
END:VCALENDAR