BEGIN:VCALENDAR
VERSION:2.0
PRODID:-//Gesamtschule Emschertal - ECPv6.15.20//NONSGML v1.0//EN
CALSCALE:GREGORIAN
METHOD:PUBLISH
X-ORIGINAL-URL:https://gesamtschule-emschertal.de
X-WR-CALDESC:Veranstaltungen für Gesamtschule Emschertal
REFRESH-INTERVAL;VALUE=DURATION:PT1H
X-Robots-Tag:noindex
X-PUBLISHED-TTL:PT1H
BEGIN:VTIMEZONE
TZID:Europe/Berlin
BEGIN:DAYLIGHT
TZOFFSETFROM:+0100
TZOFFSETTO:+0200
TZNAME:CEST
DTSTART:20240331T010000
END:DAYLIGHT
BEGIN:STANDARD
TZOFFSETFROM:+0200
TZOFFSETTO:+0100
TZNAME:CET
DTSTART:20241027T010000
END:STANDARD
BEGIN:DAYLIGHT
TZOFFSETFROM:+0100
TZOFFSETTO:+0200
TZNAME:CEST
DTSTART:20250330T010000
END:DAYLIGHT
BEGIN:STANDARD
TZOFFSETFROM:+0200
TZOFFSETTO:+0100
TZNAME:CET
DTSTART:20251026T010000
END:STANDARD
BEGIN:DAYLIGHT
TZOFFSETFROM:+0100
TZOFFSETTO:+0200
TZNAME:CEST
DTSTART:20260329T010000
END:DAYLIGHT
BEGIN:STANDARD
TZOFFSETFROM:+0200
TZOFFSETTO:+0100
TZNAME:CET
DTSTART:20261025T010000
END:STANDARD
END:VTIMEZONE
BEGIN:VEVENT
DTSTART;TZID=Europe/Berlin:20250916T173000
DTEND;TZID=Europe/Berlin:20250916T183000
DTSTAMP:20260425T054940
CREATED:20250908T180617Z
LAST-MODIFIED:20250910T093914Z
UID:2746-1758043800-1758047400@gesamtschule-emschertal.de
SUMMARY:Elternabende für die Klassenfahrten in Jahrgang 6
DESCRIPTION:
URL:https://gesamtschule-emschertal.de/event/elternabende-fuer-die-klassenfahrten/
END:VEVENT
BEGIN:VEVENT
DTSTART;TZID=Europe/Berlin:20250916T180000
DTEND;TZID=Europe/Berlin:20250916T190000
DTSTAMP:20260425T054940
CREATED:20250908T180744Z
LAST-MODIFIED:20250908T180744Z
UID:2748-1758045600-1758049200@gesamtschule-emschertal.de
SUMMARY:Elternabend für die Potentialanalyse im Jahrgang 8
DESCRIPTION:
URL:https://gesamtschule-emschertal.de/event/elternabend-fuer-die-potentialanalyse-im-jahrgang-8/
END:VEVENT
BEGIN:VEVENT
DTSTART;TZID=Europe/Berlin:20250916T190000
DTEND;TZID=Europe/Berlin:20250916T200000
DTSTAMP:20260425T054940
CREATED:20250908T180836Z
LAST-MODIFIED:20250908T180836Z
UID:2750-1758049200-1758052800@gesamtschule-emschertal.de
SUMMARY:Klassenpflegschaftsabend
DESCRIPTION:
URL:https://gesamtschule-emschertal.de/event/klassenpflegschaftsabend-2/
END:VEVENT
END:VCALENDAR