BEGIN:VCALENDAR
VERSION:2.0
PRODID:-//Gesamtschule Emschertal - ECPv6.15.20//NONSGML v1.0//EN
CALSCALE:GREGORIAN
METHOD:PUBLISH
X-ORIGINAL-URL:https://gesamtschule-emschertal.de
X-WR-CALDESC:Veranstaltungen für Gesamtschule Emschertal
REFRESH-INTERVAL;VALUE=DURATION:PT1H
X-Robots-Tag:noindex
X-PUBLISHED-TTL:PT1H
BEGIN:VTIMEZONE
TZID:Europe/Berlin
BEGIN:DAYLIGHT
TZOFFSETFROM:+0100
TZOFFSETTO:+0200
TZNAME:CEST
DTSTART:20240331T010000
END:DAYLIGHT
BEGIN:STANDARD
TZOFFSETFROM:+0200
TZOFFSETTO:+0100
TZNAME:CET
DTSTART:20241027T010000
END:STANDARD
BEGIN:DAYLIGHT
TZOFFSETFROM:+0100
TZOFFSETTO:+0200
TZNAME:CEST
DTSTART:20250330T010000
END:DAYLIGHT
BEGIN:STANDARD
TZOFFSETFROM:+0200
TZOFFSETTO:+0100
TZNAME:CET
DTSTART:20251026T010000
END:STANDARD
BEGIN:DAYLIGHT
TZOFFSETFROM:+0100
TZOFFSETTO:+0200
TZNAME:CEST
DTSTART:20260329T010000
END:DAYLIGHT
BEGIN:STANDARD
TZOFFSETFROM:+0200
TZOFFSETTO:+0100
TZNAME:CET
DTSTART:20261025T010000
END:STANDARD
END:VTIMEZONE
BEGIN:VEVENT
DTSTART;VALUE=DATE:20250203
DTEND;VALUE=DATE:20250204
DTSTAMP:20260425T153929
CREATED:20240918T135235Z
LAST-MODIFIED:20241024T084159Z
UID:2398-1738540800-1738627199@gesamtschule-emschertal.de
SUMMARY:Zeugniskonferenzen
DESCRIPTION:An diesem Tag findet kein Unterricht statt.
URL:https://gesamtschule-emschertal.de/event/zeugniskonferenzen/
END:VEVENT
BEGIN:VEVENT
DTSTART;TZID=Europe/Berlin:20250207T080000
DTEND;TZID=Europe/Berlin:20250207T170000
DTSTAMP:20260425T153929
CREATED:20240918T135318Z
LAST-MODIFIED:20240918T135318Z
UID:2400-1738915200-1738947600@gesamtschule-emschertal.de
SUMMARY:Zeugnisausgabe
DESCRIPTION:Der Unterricht endet an diesem Tag nach der 3. Stunde.
URL:https://gesamtschule-emschertal.de/event/zeugnisausgabe-4/
END:VEVENT
BEGIN:VEVENT
DTSTART;TZID=Europe/Berlin:20250228T080000
DTEND;TZID=Europe/Berlin:20250228T170000
DTSTAMP:20260425T153929
CREATED:20241024T084350Z
LAST-MODIFIED:20241024T084350Z
UID:2414-1740729600-1740762000@gesamtschule-emschertal.de
SUMMARY:Beweglicher Ferientag
DESCRIPTION:
URL:https://gesamtschule-emschertal.de/event/beweglicher-ferientag-4/
END:VEVENT
END:VCALENDAR